BEGIN:VCALENDAR
VERSION:2.0
PRODID:-//Crabby Lady - ECPv6.15.20//NONSGML v1.0//EN
CALSCALE:GREGORIAN
METHOD:PUBLISH
X-WR-CALNAME:Crabby Lady
X-ORIGINAL-URL:https://crabbyladygoodland.com
X-WR-CALDESC:Events for Crabby Lady
REFRESH-INTERVAL;VALUE=DURATION:PT1H
X-Robots-Tag:noindex
X-PUBLISHED-TTL:PT1H
BEGIN:VTIMEZONE
TZID:America/New_York
BEGIN:DAYLIGHT
TZOFFSETFROM:-0500
TZOFFSETTO:-0400
TZNAME:EDT
DTSTART:20250309T070000
END:DAYLIGHT
BEGIN:STANDARD
TZOFFSETFROM:-0400
TZOFFSETTO:-0500
TZNAME:EST
DTSTART:20251102T060000
END:STANDARD
BEGIN:DAYLIGHT
TZOFFSETFROM:-0500
TZOFFSETTO:-0400
TZNAME:EDT
DTSTART:20260308T070000
END:DAYLIGHT
BEGIN:STANDARD
TZOFFSETFROM:-0400
TZOFFSETTO:-0500
TZNAME:EST
DTSTART:20261101T060000
END:STANDARD
BEGIN:DAYLIGHT
TZOFFSETFROM:-0500
TZOFFSETTO:-0400
TZNAME:EDT
DTSTART:20270314T070000
END:DAYLIGHT
BEGIN:STANDARD
TZOFFSETFROM:-0400
TZOFFSETTO:-0500
TZNAME:EST
DTSTART:20271107T060000
END:STANDARD
END:VTIMEZONE
BEGIN:VEVENT
DTSTART;TZID=America/New_York:20260109T143000
DTEND;TZID=America/New_York:20260109T173000
DTSTAMP:20260423T094040
CREATED:20250919T165224Z
LAST-MODIFIED:20260114T215241Z
UID:10000615-1767969000-1767979800@crabbyladygoodland.com
SUMMARY:Raiford Starke Band
DESCRIPTION:
URL:https://crabbyladygoodland.com/event/raiford-starke-band/
ATTACH;FMTTYPE=image/jpeg:https://crabbyladygoodland.com/wp-content/uploads/2022/11/CL-Music-2.jpg
END:VEVENT
END:VCALENDAR