BEGIN:VCALENDAR
VERSION:2.0
PRODID:-//Crabby Lady - ECPv6.15.20//NONSGML v1.0//EN
CALSCALE:GREGORIAN
METHOD:PUBLISH
X-WR-CALNAME:Crabby Lady
X-ORIGINAL-URL:https://crabbyladygoodland.com
X-WR-CALDESC:Events for Crabby Lady
REFRESH-INTERVAL;VALUE=DURATION:PT1H
X-Robots-Tag:noindex
X-PUBLISHED-TTL:PT1H
BEGIN:VTIMEZONE
TZID:America/New_York
BEGIN:DAYLIGHT
TZOFFSETFROM:-0500
TZOFFSETTO:-0400
TZNAME:EDT
DTSTART:20250309T070000
END:DAYLIGHT
BEGIN:STANDARD
TZOFFSETFROM:-0400
TZOFFSETTO:-0500
TZNAME:EST
DTSTART:20251102T060000
END:STANDARD
BEGIN:DAYLIGHT
TZOFFSETFROM:-0500
TZOFFSETTO:-0400
TZNAME:EDT
DTSTART:20260308T070000
END:DAYLIGHT
BEGIN:STANDARD
TZOFFSETFROM:-0400
TZOFFSETTO:-0500
TZNAME:EST
DTSTART:20261101T060000
END:STANDARD
BEGIN:DAYLIGHT
TZOFFSETFROM:-0500
TZOFFSETTO:-0400
TZNAME:EDT
DTSTART:20270314T070000
END:DAYLIGHT
BEGIN:STANDARD
TZOFFSETFROM:-0400
TZOFFSETTO:-0500
TZNAME:EST
DTSTART:20271107T060000
END:STANDARD
END:VTIMEZONE
BEGIN:VEVENT
DTSTART;TZID=America/New_York:20260314T120000
DTEND;TZID=America/New_York:20260314T170000
DTSTAMP:20260423T121044
CREATED:20260302T151456Z
LAST-MODIFIED:20260302T151456Z
UID:10000676-1773489600-1773507600@crabbyladygoodland.com
SUMMARY:Crabby Lady Pig Roast. Music by Karin James Band
DESCRIPTION:
URL:https://crabbyladygoodland.com/event/crabby-lady-pig-roast-music-by-karin-james-band/
ATTACH;FMTTYPE=image/jpeg:https://crabbyladygoodland.com/wp-content/uploads/2026/03/crabby-lady-pig-roast.jpg
END:VEVENT
END:VCALENDAR