BEGIN:VCALENDAR
VERSION:2.0
PRODID:-//Crabby Lady - ECPv6.15.20//NONSGML v1.0//EN
CALSCALE:GREGORIAN
METHOD:PUBLISH
X-ORIGINAL-URL:https://crabbyladygoodland.com
X-WR-CALDESC:Events for Crabby Lady
REFRESH-INTERVAL;VALUE=DURATION:PT1H
X-Robots-Tag:noindex
X-PUBLISHED-TTL:PT1H
BEGIN:VTIMEZONE
TZID:America/New_York
BEGIN:DAYLIGHT
TZOFFSETFROM:-0500
TZOFFSETTO:-0400
TZNAME:EDT
DTSTART:20250309T070000
END:DAYLIGHT
BEGIN:STANDARD
TZOFFSETFROM:-0400
TZOFFSETTO:-0500
TZNAME:EST
DTSTART:20251102T060000
END:STANDARD
BEGIN:DAYLIGHT
TZOFFSETFROM:-0500
TZOFFSETTO:-0400
TZNAME:EDT
DTSTART:20260308T070000
END:DAYLIGHT
BEGIN:STANDARD
TZOFFSETFROM:-0400
TZOFFSETTO:-0500
TZNAME:EST
DTSTART:20261101T060000
END:STANDARD
BEGIN:DAYLIGHT
TZOFFSETFROM:-0500
TZOFFSETTO:-0400
TZNAME:EDT
DTSTART:20270314T070000
END:DAYLIGHT
BEGIN:STANDARD
TZOFFSETFROM:-0400
TZOFFSETTO:-0500
TZNAME:EST
DTSTART:20271107T060000
END:STANDARD
END:VTIMEZONE
BEGIN:VEVENT
DTSTART;TZID=America/New_York:20260424T143000
DTEND;TZID=America/New_York:20260424T173000
DTSTAMP:20260421T065437
CREATED:20260331T014520Z
LAST-MODIFIED:20260331T014520Z
UID:10000696-1777041000-1777051800@crabbyladygoodland.com
SUMMARY:Flatliners
DESCRIPTION:
URL:https://crabbyladygoodland.com/event/flatliners-3/
ATTACH;FMTTYPE=image/jpeg:https://crabbyladygoodland.com/wp-content/uploads/2022/11/CL-Music-2.jpg
END:VEVENT
BEGIN:VEVENT
DTSTART;TZID=America/New_York:20260425T130000
DTEND;TZID=America/New_York:20260425T170000
DTSTAMP:20260421T065437
CREATED:20260331T014615Z
LAST-MODIFIED:20260331T014615Z
UID:10000697-1777122000-1777136400@crabbyladygoodland.com
SUMMARY:Edison and the Rum Runners
DESCRIPTION:
URL:https://crabbyladygoodland.com/event/edison-and-the-rum-runners/
ATTACH;FMTTYPE=image/jpeg:https://crabbyladygoodland.com/wp-content/uploads/2022/11/CL-Music-2.jpg
END:VEVENT
BEGIN:VEVENT
DTSTART;TZID=America/New_York:20260426T130000
DTEND;TZID=America/New_York:20260426T170000
DTSTAMP:20260421T065437
CREATED:20260331T014709Z
LAST-MODIFIED:20260331T014709Z
UID:10000698-1777208400-1777222800@crabbyladygoodland.com
SUMMARY:Old School
DESCRIPTION:
URL:https://crabbyladygoodland.com/event/old-school-3/
ATTACH;FMTTYPE=image/jpeg:https://crabbyladygoodland.com/wp-content/uploads/2022/11/CL-Music-2.jpg
END:VEVENT
END:VCALENDAR