BEGIN:VCALENDAR
VERSION:2.0
PRODID:-//Crabby Lady - ECPv6.15.20//NONSGML v1.0//EN
CALSCALE:GREGORIAN
METHOD:PUBLISH
X-ORIGINAL-URL:https://crabbyladygoodland.com
X-WR-CALDESC:Events for Crabby Lady
REFRESH-INTERVAL;VALUE=DURATION:PT1H
X-Robots-Tag:noindex
X-PUBLISHED-TTL:PT1H
BEGIN:VTIMEZONE
TZID:America/New_York
BEGIN:DAYLIGHT
TZOFFSETFROM:-0500
TZOFFSETTO:-0400
TZNAME:EDT
DTSTART:20250309T070000
END:DAYLIGHT
BEGIN:STANDARD
TZOFFSETFROM:-0400
TZOFFSETTO:-0500
TZNAME:EST
DTSTART:20251102T060000
END:STANDARD
BEGIN:DAYLIGHT
TZOFFSETFROM:-0500
TZOFFSETTO:-0400
TZNAME:EDT
DTSTART:20260308T070000
END:DAYLIGHT
BEGIN:STANDARD
TZOFFSETFROM:-0400
TZOFFSETTO:-0500
TZNAME:EST
DTSTART:20261101T060000
END:STANDARD
BEGIN:DAYLIGHT
TZOFFSETFROM:-0500
TZOFFSETTO:-0400
TZNAME:EDT
DTSTART:20270314T070000
END:DAYLIGHT
BEGIN:STANDARD
TZOFFSETFROM:-0400
TZOFFSETTO:-0500
TZNAME:EST
DTSTART:20271107T060000
END:STANDARD
END:VTIMEZONE
BEGIN:VEVENT
DTSTART;TZID=America/New_York:20260501T143000
DTEND;TZID=America/New_York:20260501T173000
DTSTAMP:20260423T132545
CREATED:20260421T204622Z
LAST-MODIFIED:20260421T204622Z
UID:10000699-1777645800-1777656600@crabbyladygoodland.com
SUMMARY:Gator Nate
DESCRIPTION:
URL:https://crabbyladygoodland.com/event/gator-nate-3/
ATTACH;FMTTYPE=image/jpeg:https://crabbyladygoodland.com/wp-content/uploads/2022/11/CL-Music-2.jpg
END:VEVENT
BEGIN:VEVENT
DTSTART;TZID=America/New_York:20260502T130000
DTEND;TZID=America/New_York:20260502T170000
DTSTAMP:20260423T132545
CREATED:20260421T204722Z
LAST-MODIFIED:20260421T204722Z
UID:10000700-1777726800-1777741200@crabbyladygoodland.com
SUMMARY:Holler and Honey
DESCRIPTION:
URL:https://crabbyladygoodland.com/event/holler-and-honey/
ATTACH;FMTTYPE=image/jpeg:https://crabbyladygoodland.com/wp-content/uploads/2022/11/CL-Music-2.jpg
END:VEVENT
BEGIN:VEVENT
DTSTART;TZID=America/New_York:20260503T130000
DTEND;TZID=America/New_York:20260503T170000
DTSTAMP:20260423T132545
CREATED:20260421T204826Z
LAST-MODIFIED:20260421T204826Z
UID:10000701-1777813200-1777827600@crabbyladygoodland.com
SUMMARY:Brad Allison
DESCRIPTION:
URL:https://crabbyladygoodland.com/event/brad-allison-6/
ATTACH;FMTTYPE=image/jpeg:https://crabbyladygoodland.com/wp-content/uploads/2022/11/CL-Music-2.jpg
END:VEVENT
BEGIN:VEVENT
DTSTART;TZID=America/New_York:20260508T143000
DTEND;TZID=America/New_York:20260508T173000
DTSTAMP:20260423T132545
CREATED:20260421T204938Z
LAST-MODIFIED:20260421T204938Z
UID:10000702-1778250600-1778261400@crabbyladygoodland.com
SUMMARY:Mick
DESCRIPTION:
URL:https://crabbyladygoodland.com/event/mick-2/
ATTACH;FMTTYPE=image/jpeg:https://crabbyladygoodland.com/wp-content/uploads/2022/11/CL-Music-2.jpg
END:VEVENT
BEGIN:VEVENT
DTSTART;TZID=America/New_York:20260509T130000
DTEND;TZID=America/New_York:20260509T170000
DTSTAMP:20260423T132545
CREATED:20260421T205021Z
LAST-MODIFIED:20260421T205021Z
UID:10000703-1778331600-1778346000@crabbyladygoodland.com
SUMMARY:Matty Jollie
DESCRIPTION:
URL:https://crabbyladygoodland.com/event/matty-jollie/
ATTACH;FMTTYPE=image/jpeg:https://crabbyladygoodland.com/wp-content/uploads/2022/11/CL-Music-2.jpg
END:VEVENT
BEGIN:VEVENT
DTSTART;TZID=America/New_York:20260510T130000
DTEND;TZID=America/New_York:20260510T170000
DTSTAMP:20260423T132545
CREATED:20260421T205109Z
LAST-MODIFIED:20260421T205109Z
UID:10000704-1778418000-1778432400@crabbyladygoodland.com
SUMMARY:Florida Rhythm Kings
DESCRIPTION:
URL:https://crabbyladygoodland.com/event/florida-rhythm-kings-2/
ATTACH;FMTTYPE=image/jpeg:https://crabbyladygoodland.com/wp-content/uploads/2022/11/CL-Music-2.jpg
END:VEVENT
BEGIN:VEVENT
DTSTART;TZID=America/New_York:20260515T143000
DTEND;TZID=America/New_York:20260515T173000
DTSTAMP:20260423T132545
CREATED:20260421T205213Z
LAST-MODIFIED:20260421T205213Z
UID:10000705-1778855400-1778866200@crabbyladygoodland.com
SUMMARY:Dave Dunn
DESCRIPTION:
URL:https://crabbyladygoodland.com/event/dave-dunn-3/
ATTACH;FMTTYPE=image/jpeg:https://crabbyladygoodland.com/wp-content/uploads/2022/11/CL-Music-2.jpg
END:VEVENT
BEGIN:VEVENT
DTSTART;TZID=America/New_York:20260516T130000
DTEND;TZID=America/New_York:20260516T170000
DTSTAMP:20260423T132545
CREATED:20260421T205314Z
LAST-MODIFIED:20260421T205314Z
UID:10000706-1778936400-1778950800@crabbyladygoodland.com
SUMMARY:Holler and Honey
DESCRIPTION:
URL:https://crabbyladygoodland.com/event/holler-and-honey-2/
ATTACH;FMTTYPE=image/jpeg:https://crabbyladygoodland.com/wp-content/uploads/2022/11/CL-Music-2.jpg
END:VEVENT
BEGIN:VEVENT
DTSTART;TZID=America/New_York:20260517T130000
DTEND;TZID=America/New_York:20260517T170000
DTSTAMP:20260423T132545
CREATED:20260421T205400Z
LAST-MODIFIED:20260421T205400Z
UID:10000707-1779022800-1779037200@crabbyladygoodland.com
SUMMARY:Bandana Brothers
DESCRIPTION:
URL:https://crabbyladygoodland.com/event/bandana-brothers-2/
ATTACH;FMTTYPE=image/jpeg:https://crabbyladygoodland.com/wp-content/uploads/2022/11/CL-Music-2.jpg
END:VEVENT
BEGIN:VEVENT
DTSTART;TZID=America/New_York:20260522T143000
DTEND;TZID=America/New_York:20260522T173000
DTSTAMP:20260423T132545
CREATED:20260421T205459Z
LAST-MODIFIED:20260421T205459Z
UID:10000708-1779460200-1779471000@crabbyladygoodland.com
SUMMARY:Devon Meyers
DESCRIPTION:
URL:https://crabbyladygoodland.com/event/devon-meyers/
ATTACH;FMTTYPE=image/jpeg:https://crabbyladygoodland.com/wp-content/uploads/2022/11/CL-Music-2.jpg
END:VEVENT
BEGIN:VEVENT
DTSTART;TZID=America/New_York:20260523T130000
DTEND;TZID=America/New_York:20260523T170000
DTSTAMP:20260423T132545
CREATED:20260421T205543Z
LAST-MODIFIED:20260421T205543Z
UID:10000709-1779541200-1779555600@crabbyladygoodland.com
SUMMARY:Matrasa Lynn Band
DESCRIPTION:
URL:https://crabbyladygoodland.com/event/matrasa-lynn-band-2/
ATTACH;FMTTYPE=image/jpeg:https://crabbyladygoodland.com/wp-content/uploads/2022/11/CL-Music-2.jpg
END:VEVENT
BEGIN:VEVENT
DTSTART;TZID=America/New_York:20260524T130000
DTEND;TZID=America/New_York:20260524T170000
DTSTAMP:20260423T132545
CREATED:20260421T205625Z
LAST-MODIFIED:20260421T205625Z
UID:10000710-1779627600-1779642000@crabbyladygoodland.com
SUMMARY:Off The Road
DESCRIPTION:
URL:https://crabbyladygoodland.com/event/off-the-road/
ATTACH;FMTTYPE=image/jpeg:https://crabbyladygoodland.com/wp-content/uploads/2022/11/CL-Music-2.jpg
END:VEVENT
BEGIN:VEVENT
DTSTART;TZID=America/New_York:20260529T143000
DTEND;TZID=America/New_York:20260529T173000
DTSTAMP:20260423T132545
CREATED:20260421T205731Z
LAST-MODIFIED:20260421T205731Z
UID:10000711-1780065000-1780075800@crabbyladygoodland.com
SUMMARY:Cory Phillips
DESCRIPTION:
URL:https://crabbyladygoodland.com/event/cory-phillips-2/
ATTACH;FMTTYPE=image/jpeg:https://crabbyladygoodland.com/wp-content/uploads/2022/11/CL-Music-2.jpg
END:VEVENT
END:VCALENDAR